BEGIN:VCALENDAR
VERSION:2.0
PRODID:-//World Liberation Ministries - ECPv6.15.20//NONSGML v1.0//EN
CALSCALE:GREGORIAN
METHOD:PUBLISH
X-ORIGINAL-URL:https://worldliberationministries.org
X-WR-CALDESC:Events for World Liberation Ministries
REFRESH-INTERVAL;VALUE=DURATION:PT1H
X-Robots-Tag:noindex
X-PUBLISHED-TTL:PT1H
BEGIN:VTIMEZONE
TZID:UTC
BEGIN:STANDARD
TZOFFSETFROM:+0000
TZOFFSETTO:+0000
TZNAME:UTC
DTSTART:20250101T000000
END:STANDARD
END:VTIMEZONE
BEGIN:VEVENT
DTSTART;TZID=UTC:20260320T190000
DTEND;TZID=UTC:20260321T170000
DTSTAMP:20260423T182047
CREATED:20240425T042146Z
LAST-MODIFIED:20260202T152705Z
UID:13090-1774033200-1774112400@worldliberationministries.org
SUMMARY:Fire Conference
DESCRIPTION:
URL:https://worldliberationministries.org/event/fire-conference/
LOCATION:Ahero Multipurpose Center\, NJ
CATEGORIES:Youth
ATTACH;FMTTYPE=image/webp:https://worldliberationministries.org/wp-content/uploads/2024/04/KINGDOM-YOUTH-YOUNG-ADULT-ON-ASSIGNMENT-1.webp
END:VEVENT
END:VCALENDAR