BEGIN:VCALENDAR
VERSION:2.0
PRODID:-//World Liberation Ministries - ECPv6.15.20//NONSGML v1.0//EN
CALSCALE:GREGORIAN
METHOD:PUBLISH
X-WR-CALNAME:World Liberation Ministries
X-ORIGINAL-URL:https://worldliberationministries.org
X-WR-CALDESC:Events for World Liberation Ministries
REFRESH-INTERVAL;VALUE=DURATION:PT1H
X-Robots-Tag:noindex
X-PUBLISHED-TTL:PT1H
BEGIN:VTIMEZONE
TZID:UTC
BEGIN:STANDARD
TZOFFSETFROM:+0000
TZOFFSETTO:+0000
TZNAME:UTC
DTSTART:20240101T000000
END:STANDARD
END:VTIMEZONE
BEGIN:VEVENT
DTSTART;TZID=UTC:20251231T213000
DTEND;TZID=UTC:20260101T003000
DTSTAMP:20260423T205621
CREATED:20240205T132821Z
LAST-MODIFIED:20251214T124427Z
UID:10214-1767216600-1767227400@worldliberationministries.org
SUMMARY:Cross Over Service
DESCRIPTION:Join us for a powerful night of worship as we praise God and welcome the year 2026 together!
URL:https://worldliberationministries.org/event/cross-over-service/
LOCATION:Ahero Multipurpose Center\, NJ
CATEGORIES:Youth
ATTACH;FMTTYPE=image/png:https://worldliberationministries.org/wp-content/uploads/2024/02/Crossover-Service-2.png
END:VEVENT
END:VCALENDAR